BEGIN:VCALENDAR
VERSION:2.0
PRODID:-//Student Affairs - ECPv6.15.10//NONSGML v1.0//EN
CALSCALE:GREGORIAN
METHOD:PUBLISH
X-WR-CALNAME:Student Affairs
X-ORIGINAL-URL:https://students.richmond.ac.uk
X-WR-CALDESC:Events for Student Affairs
REFRESH-INTERVAL;VALUE=DURATION:PT1H
X-Robots-Tag:noindex
X-PUBLISHED-TTL:PT1H
BEGIN:VTIMEZONE
TZID:UTC
BEGIN:STANDARD
TZOFFSETFROM:+0000
TZOFFSETTO:+0000
TZNAME:UTC
DTSTART:20240101T000000
END:STANDARD
END:VTIMEZONE
BEGIN:VEVENT
DTSTART;TZID=UTC:20260415T123000
DTEND;TZID=UTC:20260415T170000
DTSTAMP:20260422T003647
CREATED:20260413T133239Z
LAST-MODIFIED:20260413T133257Z
UID:10001634-1776256200-1776272400@students.richmond.ac.uk
SUMMARY:Jewish Agency and Resistance in the Polish Army in Exile (1940-1945)\,
DESCRIPTION:
URL:https://students.richmond.ac.uk/event/jewish-agency-and-resistance-in-the-polish-army-in-exile-1940-1945/
LOCATION:Classroom 10
END:VEVENT
BEGIN:VEVENT
DTSTART;TZID=UTC:20250219T123000
DTEND;TZID=UTC:20250219T140000
DTSTAMP:20260422T003647
CREATED:20250214T154844Z
LAST-MODIFIED:20250214T154844Z
UID:10001218-1739968200-1739973600@students.richmond.ac.uk
SUMMARY:AI Skills for Faculty and Staff\, to be facilitated by Noga Glucksam and Lizzy Attree.
DESCRIPTION:The workshop will be a hands-on\, practical training session\, to learn about specific AI tools and uses that faculty and staff can implement in their daily work to make it easier\, faster and more streamlined. It’s an opportunity to ask questions\, see examples of possible case uses\, and develop practical tips for implementing this tool to improve workflow and better understand it in the context of the broader professional skill set. We will also look at real examples from AI which can have an impact on our feedback and assessment expectations.\n\nTo help Noga and Lizzy prepare for the workshop\, please complete this anonymous survey about what aspects of AI you might find helpful to your work.  The form is here: https://forms.office.com/Pages/ResponsePage.aspx?id=zovguHwJJEWVYkAReJAuUtsgyY6W95pKmocaUMgwxz1UOFZUN1JVUjQ3UVNNU0tDUDU0WEFGR0tKMy4u.
URL:https://students.richmond.ac.uk/event/ai-skills-for-faculty-and-staff-to-be-facilitated-by-noga-glucksam-and-lizzy-attree/
LOCATION:Classroom 10
END:VEVENT
END:VCALENDAR