BEGIN:VCALENDAR
VERSION:2.0
PRODID:-//Student Affairs - ECPv6.15.10//NONSGML v1.0//EN
CALSCALE:GREGORIAN
METHOD:PUBLISH
X-WR-CALNAME:Student Affairs
X-ORIGINAL-URL:https://students.richmond.ac.uk
X-WR-CALDESC:Events for Student Affairs
REFRESH-INTERVAL;VALUE=DURATION:PT1H
X-Robots-Tag:noindex
X-PUBLISHED-TTL:PT1H
BEGIN:VTIMEZONE
TZID:UTC
BEGIN:STANDARD
TZOFFSETFROM:+0000
TZOFFSETTO:+0000
TZNAME:UTC
DTSTART:20250101T000000
END:STANDARD
END:VTIMEZONE
BEGIN:VEVENT
DTSTART;TZID=UTC:20260122T181500
DTEND;TZID=UTC:20260122T200000
DTSTAMP:20260425T180804
CREATED:20260113T160807Z
LAST-MODIFIED:20260113T160833Z
UID:10001549-1769105700-1769112000@students.richmond.ac.uk
SUMMARY:Senior Screening at the Chiswick Cinema
DESCRIPTION:
URL:https://students.richmond.ac.uk/event/senior-screening-at-the-chiswick-cinema/
END:VEVENT
END:VCALENDAR