BEGIN:VCALENDAR
VERSION:2.0
PRODID:-//Student Affairs - ECPv6.15.10//NONSGML v1.0//EN
CALSCALE:GREGORIAN
METHOD:PUBLISH
X-WR-CALNAME:Student Affairs
X-ORIGINAL-URL:https://students.richmond.ac.uk
X-WR-CALDESC:Events for Student Affairs
REFRESH-INTERVAL;VALUE=DURATION:PT1H
X-Robots-Tag:noindex
X-PUBLISHED-TTL:PT1H
BEGIN:VTIMEZONE
TZID:UTC
BEGIN:STANDARD
TZOFFSETFROM:+0000
TZOFFSETTO:+0000
TZNAME:UTC
DTSTART:20250101T000000
END:STANDARD
END:VTIMEZONE
BEGIN:VEVENT
DTSTART;TZID=UTC:20260118T110000
DTEND;TZID=UTC:20260118T130000
DTSTAMP:20260425T193700
CREATED:20260105T130923Z
LAST-MODIFIED:20260105T130923Z
UID:10001539-1768734000-1768741200@students.richmond.ac.uk
SUMMARY:Tower of London Tour
DESCRIPTION:Join us for an unforgettable tour of the Tower of London. \nSign up at https://store.richmond.ac.uk/product-catalogue/new-undergraduate-student-orientation/orientation-activities/tower-of-london-tour-spring-2026
URL:https://students.richmond.ac.uk/event/tower-of-london-tour/
END:VEVENT
END:VCALENDAR