BEGIN:VCALENDAR
VERSION:2.0
PRODID:-//Student Affairs - ECPv6.15.10//NONSGML v1.0//EN
CALSCALE:GREGORIAN
METHOD:PUBLISH
X-WR-CALNAME:Student Affairs
X-ORIGINAL-URL:https://students.richmond.ac.uk
X-WR-CALDESC:Events for Student Affairs
REFRESH-INTERVAL;VALUE=DURATION:PT1H
X-Robots-Tag:noindex
X-PUBLISHED-TTL:PT1H
BEGIN:VTIMEZONE
TZID:UTC
BEGIN:STANDARD
TZOFFSETFROM:+0000
TZOFFSETTO:+0000
TZNAME:UTC
DTSTART:20250101T000000
END:STANDARD
END:VTIMEZONE
BEGIN:VEVENT
DTSTART;TZID=UTC:20260112T090000
DTEND;TZID=UTC:20260116T170000
DTSTAMP:20260421T083729
CREATED:20260105T090012Z
LAST-MODIFIED:20260105T090012Z
UID:10001533-1768208400-1768582800@students.richmond.ac.uk
SUMMARY:New Student Orientation
DESCRIPTION:See https://students.richmond.ac.uk/new-student-orientation-january2026/ for the full week of events
URL:https://students.richmond.ac.uk/event/new-student-orientation/
END:VEVENT
BEGIN:VEVENT
DTSTART;TZID=UTC:20260114T120000
DTEND;TZID=UTC:20260114T130000
DTSTAMP:20260421T083729
CREATED:20260105T131206Z
LAST-MODIFIED:20260105T131206Z
UID:10001540-1768392000-1768395600@students.richmond.ac.uk
SUMMARY:Faculty/New Student Lunch
DESCRIPTION:Meet the faculty teaching on your course over an informal lunch in our main reception area.
URL:https://students.richmond.ac.uk/event/faculty-new-student-lunch/
END:VEVENT
END:VCALENDAR