BEGIN:VCALENDAR
VERSION:2.0
PRODID:-//Student Affairs - ECPv6.15.10//NONSGML v1.0//EN
CALSCALE:GREGORIAN
METHOD:PUBLISH
X-ORIGINAL-URL:https://students.richmond.ac.uk
X-WR-CALDESC:Events for Student Affairs
REFRESH-INTERVAL;VALUE=DURATION:PT1H
X-Robots-Tag:noindex
X-PUBLISHED-TTL:PT1H
BEGIN:VTIMEZONE
TZID:UTC
BEGIN:STANDARD
TZOFFSETFROM:+0000
TZOFFSETTO:+0000
TZNAME:UTC
DTSTART:20240101T000000
END:STANDARD
END:VTIMEZONE
BEGIN:VEVENT
DTSTART;TZID=UTC:20250408T123000
DTEND;TZID=UTC:20250408T153000
DTSTAMP:20260420T233318
CREATED:20250128T102501Z
LAST-MODIFIED:20250128T102501Z
UID:10001073-1744115400-1744126200@students.richmond.ac.uk
SUMMARY:Undergraduate Language & Writing Support Centre
DESCRIPTION:
URL:https://students.richmond.ac.uk/event/undergraduate-language-writing-support-centre-2/2025-04-08/
END:VEVENT
BEGIN:VEVENT
DTSTART;TZID=UTC:20250408T140000
DTEND;TZID=UTC:20250408T152000
DTSTAMP:20260420T233318
CREATED:20250403T093108Z
LAST-MODIFIED:20250404T095907Z
UID:10001423-1744120800-1744125600@students.richmond.ac.uk
SUMMARY:The Challenges of Sustaining Peace: Kurdish Conflict in Turkey 
DESCRIPTION:The Challenges of Sustaining Peace: Kurdish Conflict in Turkey\nClassroom F01\, 2-3:20pm \n\nDr Recep Onursal\, University of Kent \n\n\nThis lecture offers a critical examination of the Kurdish conflict in Turkey\, one of the world’s most enduring political conflicts. Situating the conflict within its broader historical and socio-political contexts\, the lecture interrogates the reasons behind its persistence and the barriers that have kept it unresolved for decades. Drawing on core theories of conflict resolution and transformation\, we will dissect the interplay of state policies\, hegemonic struggles\, and identity-based grievances that have shaped this protracted struggle. Participants will gain insights into how previous peace initiatives have failed—ranging from challenges in negotiation processes to the broader regional dynamics—and explore potential pathways toward its resolution and transformation. \nJoin the meeting now\nMeeting ID: 381 784 737 877\nPasscode: XH2St6Ud
URL:https://students.richmond.ac.uk/event/the-challenges-of-sustaining-peace-kurdish-conflict-in-turkey/
END:VEVENT
END:VCALENDAR