BEGIN:VCALENDAR
VERSION:2.0
PRODID:-//Student Affairs - ECPv6.15.10//NONSGML v1.0//EN
CALSCALE:GREGORIAN
METHOD:PUBLISH
X-ORIGINAL-URL:https://students.richmond.ac.uk
X-WR-CALDESC:Events for Student Affairs
REFRESH-INTERVAL;VALUE=DURATION:PT1H
X-Robots-Tag:noindex
X-PUBLISHED-TTL:PT1H
BEGIN:VTIMEZONE
TZID:UTC
BEGIN:STANDARD
TZOFFSETFROM:+0000
TZOFFSETTO:+0000
TZNAME:UTC
DTSTART:20240101T000000
END:STANDARD
END:VTIMEZONE
BEGIN:VEVENT
DTSTART;TZID=UTC:20250403T112000
DTEND;TZID=UTC:20250403T122000
DTSTAMP:20260422T170342
CREATED:20250310T130054Z
LAST-MODIFIED:20250310T130054Z
UID:10001314-1743679200-1743682800@students.richmond.ac.uk
SUMMARY:A Talk with Sadie Clayton: Creative Boundaries between Art\, Fashion & Technology
DESCRIPTION:Sadie Clayton TALK! \n\nPlease join online for this fascinating talk… \n\nSadie Clayton trained in fashion design and has explored the creative boundaries between art\, fashion and technology throughout her career. She has also produced a number of sculptures for and with humanoid AI robots! \n\nSadie has presented collections at the Royal Academy of the Arts and has worked with various high-profile clients during her career\, such as Tate Modern and Tate Britain\, The Ivy\, Sipsmith Gin\, M&C Saatchi\, Art Fund\, Chanel 4 and Bonhams. \n\nEmbraced by the art world as a creator and innovator\, Sadie has been involved with projects for London Craft Week\, Singapore Design Week\, Art Basel Miami\, Design is Great NYC\, delivering workshops/talks/panels to inspire and educate the audiences around the world. Sadie is Course Director of Fashion at the London College of Contemporary Arts. \n\n\n\n  \n\n________________________________________________________________________________\nMicrosoft Teams Need help?\nJoin the meeting now\nMeeting ID: 324 579 141 676\nPasscode: Wn2d4Gj6
URL:https://students.richmond.ac.uk/event/a-talk-with-sadie-clayton-creative-boundaries-between-art-fashion-technology/
END:VEVENT
BEGIN:VEVENT
DTSTART;TZID=UTC:20250403T140000
DTEND;TZID=UTC:20250403T170000
DTSTAMP:20260422T170342
CREATED:20250128T102133Z
LAST-MODIFIED:20250128T102133Z
UID:10001006-1743688800-1743699600@students.richmond.ac.uk
SUMMARY:Maths Advice Centre
DESCRIPTION:
URL:https://students.richmond.ac.uk/event/maths-advice-centre-3/2025-04-03/
END:VEVENT
BEGIN:VEVENT
DTSTART;TZID=UTC:20250403T160000
DTEND;TZID=UTC:20250403T173000
DTSTAMP:20260422T170342
CREATED:20250128T102554Z
LAST-MODIFIED:20250128T102554Z
UID:10001138-1743696000-1743701400@students.richmond.ac.uk
SUMMARY:Undergraduate Language & Writing Support Centre
DESCRIPTION:
URL:https://students.richmond.ac.uk/event/undergraduate-language-writing-support-centre-3/2025-04-03/
END:VEVENT
BEGIN:VEVENT
DTSTART;TZID=UTC:20250403T170000
DTEND;TZID=UTC:20250403T190000
DTSTAMP:20260422T170342
CREATED:20250328T151923Z
LAST-MODIFIED:20250328T151923Z
UID:10001419-1743699600-1743706800@students.richmond.ac.uk
SUMMARY:Talking about the Spy We Love: James Bond Beyond the Cold War
DESCRIPTION:Talking About The Spy We Love: James Bond Beyond The Cold War \nThursday 3 April at 5.00PM \nTwickenham Exchange: The Conservatory \n  \nIn this conversation and launch event\, Martin Brown and Muriel Blaive discuss their new book about James Bond and Cold War culture. They talk about the fiction and films that brought Ian Fleming’s iconic character to audiences around the world. They explain how new thinking in The Bondian Cold War explores fact and fiction in the Bond canon\, goes in search of a global Bond\, and deals with issues of gender and sexuality across the ‘Bondiverse’. Mark Donnelly from St Mary’s University hosts the conversation. \n\nThe event is ticketed\, but tickets are free. It’s part of St Mary’s University’s Scala Festival of Creativity \n\nTickets can be accessed via this link \n\n  https://www.ticketsource.co.uk/stmarysuni/scala-festival-of-creativity-james-bond-cultural-icon-a-discussion-and-book-launch/e-gyoeok
URL:https://students.richmond.ac.uk/event/talking-about-the-spy-we-love-james-bond-beyond-the-cold-war/
END:VEVENT
BEGIN:VEVENT
DTSTART;TZID=UTC:20250403T173000
DTEND;TZID=UTC:20250403T210000
DTSTAMP:20260422T170342
CREATED:20250103T151151Z
LAST-MODIFIED:20250321T102918Z
UID:10000925-1743701400-1743714000@students.richmond.ac.uk
SUMMARY:Honours Night
DESCRIPTION:Our annual scholarship evening\, Honours Night\, is by invitation only.\nWe will be celebrating academic achievement and community engagement at the Clayton Hotel this year.
URL:https://students.richmond.ac.uk/event/honours-night/
END:VEVENT
END:VCALENDAR