BEGIN:VCALENDAR
VERSION:2.0
PRODID:-//Student Affairs - ECPv6.15.10//NONSGML v1.0//EN
CALSCALE:GREGORIAN
METHOD:PUBLISH
X-ORIGINAL-URL:https://students.richmond.ac.uk
X-WR-CALDESC:Events for Student Affairs
REFRESH-INTERVAL;VALUE=DURATION:PT1H
X-Robots-Tag:noindex
X-PUBLISHED-TTL:PT1H
BEGIN:VTIMEZONE
TZID:UTC
BEGIN:STANDARD
TZOFFSETFROM:+0000
TZOFFSETTO:+0000
TZNAME:UTC
DTSTART:20240101T000000
END:STANDARD
END:VTIMEZONE
BEGIN:VEVENT
DTSTART;TZID=UTC:20250319T130000
DTEND;TZID=UTC:20250319T140000
DTSTAMP:20260420T090826
CREATED:20250305T081614Z
LAST-MODIFIED:20250305T081614Z
UID:10001309-1742389200-1742392800@students.richmond.ac.uk
SUMMARY:Dyslexia & Visual Culture: A conversation with Louis de Nassau
DESCRIPTION:
URL:https://students.richmond.ac.uk/event/dyslexia-visual-culture-a-conversation-with-louis-de-nassau/
END:VEVENT
BEGIN:VEVENT
DTSTART;TZID=UTC:20250319T153000
DTEND;TZID=UTC:20250319T163000
DTSTAMP:20260420T090826
CREATED:20250313T135106Z
LAST-MODIFIED:20250313T135106Z
UID:10001316-1742398200-1742401800@students.richmond.ac.uk
SUMMARY:Stuart Sutherland's - producing Film and TV
DESCRIPTION:Stuart Sutherland will discuss his career in producing Film and TV content for over 20 years. Stuart just recently Co-Produced Disney/Fox’s WE WERE THE LUCKY ONES for Hulu in Spain. He also Co-Produced the feature film KANDAHAR\, the Gerard Butler starring action film through his Celtic Arabia banner. Stuart was the Producer for Spain handling Showtime’s big-budget remake of THE MAN WHO FELL TO EARTH.  \nAside from his film and TV work\, Stuart has produced numerous TV commercials for clients such as CADBURY’S\, HERO Motorbikes\, GATORADE\, SUZUKI cars\, ULUDAG soft drinks\, ZIRAAT BANK\, CARLTON LUGGAGE\, UTI BANK\, VOGUE magazine\, and numerous other brands. \nMicrosoft Teams Need help?\nJoin the meeting now\nMeeting ID: 356 219 325 94\nPasscode: YV9Dk6yo
URL:https://students.richmond.ac.uk/event/stuart-sutherlands-producing-film-and-tv/
END:VEVENT
BEGIN:VEVENT
DTSTART;TZID=UTC:20250319T160000
DTEND;TZID=UTC:20250319T170000
DTSTAMP:20260420T090826
CREATED:20250318T145209Z
LAST-MODIFIED:20250318T145209Z
UID:10001318-1742400000-1742403600@students.richmond.ac.uk
SUMMARY:Rifke Sadleir\, Creative Coder
DESCRIPTION:Rifke Sadleir\, Creative Coder \nWednesday 19th March\, 4pm \nWebsite: https://rif.ke/ \nInstagram: @rifke.world \nRifke Sadleir is a creative technologist\, front-end developer\, and designer who collaborates with innovative clients to craft visually engaging and interactive digital experiences. Their work and research focus on the intersection of technology\, humour\, and community building. \n  \nWith a portfolio spanning the arts\, fashion\, music\, and charity sectors\, Rifke has worked with renowned companies such as Google\, Burberry\, Dazed\, and Universal. In addition to their creative practice\, Rifke lectures and runs workshops on coding and design and has spoken at various universities and symposiums. \n  \nRifke’s talk will explore projects driven by strong conceptual ideas\, and discuss the creative process and development of experimental websites. \n \nJoin the meeting now \nMeeting ID: 351 735 114 334 \nPasscode: te9aY3i2 \n 
URL:https://students.richmond.ac.uk/event/rifke-sadleir-creative-coder/
END:VEVENT
END:VCALENDAR