BEGIN:VCALENDAR
VERSION:2.0
PRODID:-//Student Affairs - ECPv6.15.10//NONSGML v1.0//EN
CALSCALE:GREGORIAN
METHOD:PUBLISH
X-WR-CALNAME:Student Affairs
X-ORIGINAL-URL:https://students.richmond.ac.uk
X-WR-CALDESC:Events for Student Affairs
REFRESH-INTERVAL;VALUE=DURATION:PT1H
X-Robots-Tag:noindex
X-PUBLISHED-TTL:PT1H
BEGIN:VTIMEZONE
TZID:UTC
BEGIN:STANDARD
TZOFFSETFROM:+0000
TZOFFSETTO:+0000
TZNAME:UTC
DTSTART:20230101T000000
END:STANDARD
END:VTIMEZONE
BEGIN:VEVENT
DTSTART;TZID=UTC:20241028T080000
DTEND;TZID=UTC:20241101T170000
DTSTAMP:20260421T091117
CREATED:20241104T144438Z
LAST-MODIFIED:20241104T144438Z
UID:10000785-1730102400-1730480400@students.richmond.ac.uk
SUMMARY:Reading Week
DESCRIPTION:This week there are no classes scheduled. Please check the e-news letter for building opening hours.
URL:https://students.richmond.ac.uk/event/reading-week/
END:VEVENT
BEGIN:VEVENT
DTSTART;TZID=UTC:20241031T123000
DTEND;TZID=UTC:20241031T143000
DTSTAMP:20260421T091117
CREATED:20240930T211730Z
LAST-MODIFIED:20241115T111509Z
UID:10000700-1730377800-1730385000@students.richmond.ac.uk
SUMMARY:Postgraduate Language and Research Support Centre
DESCRIPTION:
URL:https://students.richmond.ac.uk/event/postgraduate-language-and-research-support-centre-2/2024-10-31/
END:VEVENT
END:VCALENDAR