BEGIN:VCALENDAR
VERSION:2.0
PRODID:-//Student Affairs - ECPv6.15.10//NONSGML v1.0//EN
CALSCALE:GREGORIAN
METHOD:PUBLISH
X-WR-CALNAME:Student Affairs
X-ORIGINAL-URL:https://students.richmond.ac.uk
X-WR-CALDESC:Events for Student Affairs
REFRESH-INTERVAL;VALUE=DURATION:PT1H
X-Robots-Tag:noindex
X-PUBLISHED-TTL:PT1H
BEGIN:VTIMEZONE
TZID:UTC
BEGIN:STANDARD
TZOFFSETFROM:+0000
TZOFFSETTO:+0000
TZNAME:UTC
DTSTART:20230101T000000
END:STANDARD
END:VTIMEZONE
BEGIN:VEVENT
DTSTART;VALUE=DATE:20241025
DTEND;VALUE=DATE:20241028
DTSTAMP:20260419T155044
CREATED:20240930T201256Z
LAST-MODIFIED:20240930T202246Z
UID:10000009-1729814400-1730073599@students.richmond.ac.uk
SUMMARY:West London Film Festival
DESCRIPTION:
URL:https://students.richmond.ac.uk/event/west-london-film-festival/2024-10-25/
END:VEVENT
BEGIN:VEVENT
DTSTART;VALUE=DATE:20241026
DTEND;VALUE=DATE:20241029
DTSTAMP:20260419T155044
CREATED:20240930T201256Z
LAST-MODIFIED:20240930T202246Z
UID:10000010-1729900800-1730159999@students.richmond.ac.uk
SUMMARY:West London Film Festival
DESCRIPTION:
URL:https://students.richmond.ac.uk/event/west-london-film-festival/2024-10-26/
END:VEVENT
BEGIN:VEVENT
DTSTART;TZID=UTC:20241027T000000
DTEND;TZID=UTC:20241027T235959
DTSTAMP:20260419T155044
CREATED:20240930T200659Z
LAST-MODIFIED:20241003T140521Z
UID:10000005-1729987200-1730073599@students.richmond.ac.uk
SUMMARY:MCM London Comic Con
DESCRIPTION:
URL:https://students.richmond.ac.uk/event/mcm-london-comic-con/
END:VEVENT
BEGIN:VEVENT
DTSTART;VALUE=DATE:20241027
DTEND;VALUE=DATE:20241030
DTSTAMP:20260419T155044
CREATED:20240930T201256Z
LAST-MODIFIED:20240930T202246Z
UID:10000011-1729987200-1730246399@students.richmond.ac.uk
SUMMARY:West London Film Festival
DESCRIPTION:
URL:https://students.richmond.ac.uk/event/west-london-film-festival/2024-10-27/
END:VEVENT
END:VCALENDAR